BEGIN:VCALENDAR
VERSION:2.0
PRODID:-//Tennessee Society of Association Executives - ECPv4.4.1.1//NONSGML v1.0//EN
CALSCALE:GREGORIAN
METHOD:PUBLISH
X-WR-CALNAME:Tennessee Society of Association Executives
X-ORIGINAL-URL:https://joyn.tnsae.org
X-WR-CALDESC:Events for Tennessee Society of Association Executives
BEGIN:VEVENT
DTSTART;TZID=UTC-5:20201021T123000
DTEND;TZID=UTC-5:20201021T133000
DTSTAMP:20260422T170929
CREATED:20201005T193557Z
LAST-MODIFIED:20201005T193557Z
UID:1796-1603283400-1603287000@joyn.tnsae.org
SUMMARY:WEBINAR: How to Print Money With Online Education
DESCRIPTION:COVID-19 has disrupted the association revenue models. With meetings and other live revenue streams coming to a halt\, online digital revenue has become a #1 priority. Online education is the key to driving new revenue sources and member value. During this session\, Tom Morrison and Adrienne Segundo will unpack the keys to building an online education\, certificate programs and credentialing will drive non-dues revenue and your value to a whole new level. Don’t miss it.
URL:https://joyn.tnsae.org/event/webinar-how-to-print-money-with-online-education/
END:VEVENT
END:VCALENDAR