BEGIN:VCALENDAR
VERSION:2.0
PRODID:-//Tennessee Society of Association Executives - ECPv4.4.1.1//NONSGML v1.0//EN
CALSCALE:GREGORIAN
METHOD:PUBLISH
X-WR-CALNAME:Tennessee Society of Association Executives
X-ORIGINAL-URL:https://joyn.tnsae.org
X-WR-CALDESC:Events for Tennessee Society of Association Executives
BEGIN:VEVENT
DTSTART;TZID=UTC-5:20200715T090000
DTEND;TZID=UTC-5:20200715T100000
DTSTAMP:20260423T110325
CREATED:20200707T165230Z
LAST-MODIFIED:20200707T165230Z
UID:1728-1594803600-1594807200@joyn.tnsae.org
SUMMARY:TNSAE Member Weekly Chat
DESCRIPTION:Join us Wednesday\, July 15\, at 9 a.m. CST for an informal conversation and time together as we visit\, catch-up\, and share successes & struggles as we continue to navigate 2020 and look towards 2021. Unable to join us on the 15th! We are meeting informally each Wednesday (some mornings\, some afternoons!). We look forward to seeing you anytime that works for your schedule!
URL:https://joyn.tnsae.org/event/tnsae-member-weekly-chat/
END:VEVENT
END:VCALENDAR