BEGIN:VCALENDAR
VERSION:2.0
PRODID:-//Tennessee Society of Association Executives - ECPv4.4.1.1//NONSGML v1.0//EN
CALSCALE:GREGORIAN
METHOD:PUBLISH
X-WR-CALNAME:Tennessee Society of Association Executives
X-ORIGINAL-URL:https://joyn.tnsae.org
X-WR-CALDESC:Events for Tennessee Society of Association Executives
BEGIN:VEVENT
DTSTART;TZID=UTC-5:20200930T130000
DTEND;TZID=UTC-5:20200930T140000
DTSTAMP:20260422T223111
CREATED:20200921T142617Z
LAST-MODIFIED:20200930T142450Z
UID:1781-1601470800-1601474400@joyn.tnsae.org
SUMMARY:TNSAE Member Weekly Chat (Zoom Call)
DESCRIPTION:Join us Wednesday\, Sept. 30 for our TNSAE Member Weekly Chat. We will be using Zoom as we have in the past for the call. When you register you will receive a link to the call.
URL:https://joyn.tnsae.org/event/tnsae-member-weekly-chat-changing-it-up-for-this-week/
END:VEVENT
END:VCALENDAR