BEGIN:VCALENDAR
VERSION:2.0
PRODID:-//Tennessee Society of Association Executives - ECPv4.4.1.1//NONSGML v1.0//EN
CALSCALE:GREGORIAN
METHOD:PUBLISH
X-WR-CALNAME:Tennessee Society of Association Executives
X-ORIGINAL-URL:https://joyn.tnsae.org
X-WR-CALDESC:Events for Tennessee Society of Association Executives
BEGIN:VEVENT
DTSTART;TZID=UTC-5:20201104T130000
DTEND;TZID=UTC-5:20201104T140000
DTSTAMP:20260422T132358
CREATED:20201026T120557Z
LAST-MODIFIED:20201026T120557Z
UID:1803-1604494800-1604498400@joyn.tnsae.org
SUMMARY:TNSAE Member Weekly Chat
DESCRIPTION:Do you have plans at 1 p.m. CST on Wednesday\, Nov. 4? Join us for the TNSAE Member Weekly Chat. This continues to be an informal time for us to get together\, catch up\, ask questions\, and check in as we all continue to walk through this year!
URL:https://joyn.tnsae.org/event/tnsae-member-weekly-chat-8/
END:VEVENT
END:VCALENDAR