BEGIN:VCALENDAR
VERSION:2.0
PRODID:-//Tennessee Society of Association Executives - ECPv4.4.1.1//NONSGML v1.0//EN
CALSCALE:GREGORIAN
METHOD:PUBLISH
X-WR-CALNAME:Tennessee Society of Association Executives
X-ORIGINAL-URL:https://joyn.tnsae.org
X-WR-CALDESC:Events for Tennessee Society of Association Executives
BEGIN:VEVENT
DTSTART;TZID=UTC-5:20201014T130000
DTEND;TZID=UTC-5:20201014T140000
DTSTAMP:20260422T185234
CREATED:20201008T163223Z
LAST-MODIFIED:20201008T163223Z
UID:1798-1602680400-1602684000@joyn.tnsae.org
SUMMARY:TNSAE Member Weekly Chat
DESCRIPTION:Do you have plans at 1 p.m. CST on Wednesday\, Oct. 14? Join us for the TNSAE Member Weekly Chat. This continues to be an informal time for us to get together\, catch up\, ask questions\, and check in as we all continue to walk through this year!
URL:https://joyn.tnsae.org/event/tnsae-member-weekly-chat-6/
END:VEVENT
END:VCALENDAR