BEGIN:VCALENDAR
VERSION:2.0
PRODID:-//Tennessee Society of Association Executives - ECPv4.4.1.1//NONSGML v1.0//EN
CALSCALE:GREGORIAN
METHOD:PUBLISH
X-WR-CALNAME:Tennessee Society of Association Executives
X-ORIGINAL-URL:https://joyn.tnsae.org
X-WR-CALDESC:Events for Tennessee Society of Association Executives
BEGIN:VEVENT
DTSTART;TZID=UTC-5:20200909T090000
DTEND;TZID=UTC-5:20200909T100000
DTSTAMP:20260422T223306
CREATED:20200826T134355Z
LAST-MODIFIED:20200826T134825Z
UID:1772-1599642000-1599645600@joyn.tnsae.org
SUMMARY:TNSAE Member Weekly Chat
DESCRIPTION:Join us Wednesday\, September 9\, at 9 a.m. CST for an informal conversation and time together as we visit\, catch-up\, and share successes & struggles as we continue to navigate 2020 and look towards 2021. Unable to join us on the 9th? We are meeting informally each Wednesday (some mornings\, some afternoons!). We look forward to seeing you anytime that works for your schedule!
URL:https://joyn.tnsae.org/event/tnsae-member-weekly-chat-5/
END:VEVENT
END:VCALENDAR