BEGIN:VCALENDAR
VERSION:2.0
PRODID:-//Tennessee Society of Association Executives - ECPv4.4.1.1//NONSGML v1.0//EN
CALSCALE:GREGORIAN
METHOD:PUBLISH
X-WR-CALNAME:Tennessee Society of Association Executives
X-ORIGINAL-URL:https://joyn.tnsae.org
X-WR-CALDESC:Events for Tennessee Society of Association Executives
BEGIN:VEVENT
DTSTART;TZID=UTC-5:20200902T130000
DTEND;TZID=UTC-5:20200902T140000
DTSTAMP:20260423T001100
CREATED:20200826T134317Z
LAST-MODIFIED:20200826T134628Z
UID:1770-1599051600-1599055200@joyn.tnsae.org
SUMMARY:TNSAE Member Weekly Chat
DESCRIPTION:Join us Wednesday\, September 2\, at 1 p.m. CST for an informal conversation and time together as we visit\, catch-up\, and share successes & struggles as we continue to navigate 2020 and look towards 2021. Unable to join us on the 2nd? We are meeting informally each Wednesday (some mornings\, some afternoons!). We look forward to seeing you anytime that works for your schedule!
URL:https://joyn.tnsae.org/event/tnsae-member-weekly-chat-4/
END:VEVENT
END:VCALENDAR