BEGIN:VCALENDAR
VERSION:2.0
PRODID:-//Tennessee Society of Association Executives - ECPv4.4.1.1//NONSGML v1.0//EN
CALSCALE:GREGORIAN
METHOD:PUBLISH
X-WR-CALNAME:Tennessee Society of Association Executives
X-ORIGINAL-URL:https://joyn.tnsae.org
X-WR-CALDESC:Events for Tennessee Society of Association Executives
BEGIN:VEVENT
DTSTART;TZID=UTC-5:20200819T130000
DTEND;TZID=UTC-5:20200819T140000
DTSTAMP:20260423T015854
CREATED:20200810T185941Z
LAST-MODIFIED:20200810T185941Z
UID:1754-1597842000-1597845600@joyn.tnsae.org
SUMMARY:TNSAE Member Chat: ASAE Post-Meeting Idea Sharing
DESCRIPTION:Join us on Wednesday\, Aug. 19\,  at 1 p.m. CST for our TNSAE Member Chat! Our time together on the 19th is going to focus on idea sharing from the ASAE Annual Meeting. So many sessions\, so many great ideas\, so many TNSAE members participating! Let's connect post-event and discuss!
URL:https://joyn.tnsae.org/event/tnsae-member-chat-asae-post-meeting-idea-sharing/
END:VEVENT
END:VCALENDAR