BEGIN:VCALENDAR
VERSION:2.0
PRODID:-//Tennessee Society of Association Executives - ECPv4.4.1.1//NONSGML v1.0//EN
CALSCALE:GREGORIAN
METHOD:PUBLISH
X-WR-CALNAME:Tennessee Society of Association Executives
X-ORIGINAL-URL:https://joyn.tnsae.org
X-WR-CALDESC:Events for Tennessee Society of Association Executives
BEGIN:VEVENT
DTSTART;TZID=UTC-5:20200807T090000
DTEND;TZID=UTC-5:20200807T100000
DTSTAMP:20260423T034810
CREATED:20200727T233921Z
LAST-MODIFIED:20200727T233921Z
UID:1738-1596790800-1596794400@joyn.tnsae.org
SUMMARY:Safe Meetings: The Tennessee Pledge\, Protocols in Place for Meetings & Events; Sponsored by Visit Knoxville
DESCRIPTION:We all have many questions and uncertainties in this ever-changing environment. As we reschedule and plan to meet face-to-face again\, there are even more questions. What are hotels\, convention centers\, cities doing to prepare? Join our friends with Visit Knoxville for this discussion as we hear what the industry and city are doing to prepare for associations and companies to return to face-to-face meetings.
URL:https://joyn.tnsae.org/event/safe-meetings-the-tennessee-pledge-protocols-in-place-for-meetings-sponsored-by-visit-knoxville/
END:VEVENT
END:VCALENDAR