BEGIN:VCALENDAR
VERSION:2.0
PRODID:-//Tennessee Society of Association Executives - ECPv4.4.1.1//NONSGML v1.0//EN
CALSCALE:GREGORIAN
METHOD:PUBLISH
X-WR-CALNAME:Tennessee Society of Association Executives
X-ORIGINAL-URL:https://joyn.tnsae.org
X-WR-CALDESC:Events for Tennessee Society of Association Executives
BEGIN:VEVENT
DTSTART;TZID=UTC-5:20201218T090000
DTEND;TZID=UTC-5:20201218T103000
DTSTAMP:20260422T081122
CREATED:20201208T142557Z
LAST-MODIFIED:20201208T142557Z
UID:1811-1608282000-1608287400@joyn.tnsae.org
SUMMARY:“Finding a Job during COVID-19 and a Disruptive 2020 …… and Beyond” Presented by Vetted Solutions\, Sponsored by GSAE\, OSAE & TNSAE
DESCRIPTION:Overview\n\nThe pandemic and its economic fallout have touched the events and hospitality industries especially. Hopefully\, the worst is behind us and recovery is on its way. Whether you have experienced a lay-off\, or fear one may be coming\, join us for expert advice and candid conversation from the search professionals at Vetted Solutions\, a Washington\, DC-based executive search firm specializing in association and nonprofit recruiting and consulting.\n\nTopics & Learning Objectives\n\n \tWhat we’re seeing in searches and what we are hearing from our client organizations\n \tDifferences between furloughs and layoffs …. and industry sectors\n \tWhat should I do next?\n \tTake a skill set inventory\n \tBuild a powerful resume ….. and in more than one version\n \tDraft sample cover letter\n \tInterviews – virtual and in person\n \tNetwork\n \tWhat else can I do?\n \tTake care of yourself!\n
URL:https://joyn.tnsae.org/event/finding-a-job-during-covid-19-and-a-disruptive-2020-and-beyond-presented-by-vetted-solutions-sponsored-by-gsae-osae-tnsae/
END:VEVENT
END:VCALENDAR